BEGIN:VCALENDAR
VERSION:2.0
PRODID:-//Future Generations - ECPv6.15.20//NONSGML v1.0//EN
CALSCALE:GREGORIAN
METHOD:PUBLISH
X-WR-CALNAME:Future Generations
X-ORIGINAL-URL:https://futuregenerationssd.com
X-WR-CALDESC:Events for Future Generations
REFRESH-INTERVAL;VALUE=DURATION:PT1H
X-Robots-Tag:noindex
X-PUBLISHED-TTL:PT1H
BEGIN:VTIMEZONE
TZID:America/Los_Angeles
BEGIN:DAYLIGHT
TZOFFSETFROM:-0800
TZOFFSETTO:-0700
TZNAME:PDT
DTSTART:20220313T100000
END:DAYLIGHT
BEGIN:STANDARD
TZOFFSETFROM:-0700
TZOFFSETTO:-0800
TZNAME:PST
DTSTART:20221106T090000
END:STANDARD
BEGIN:DAYLIGHT
TZOFFSETFROM:-0800
TZOFFSETTO:-0700
TZNAME:PDT
DTSTART:20230312T100000
END:DAYLIGHT
BEGIN:STANDARD
TZOFFSETFROM:-0700
TZOFFSETTO:-0800
TZNAME:PST
DTSTART:20231105T090000
END:STANDARD
BEGIN:DAYLIGHT
TZOFFSETFROM:-0800
TZOFFSETTO:-0700
TZNAME:PDT
DTSTART:20240310T100000
END:DAYLIGHT
BEGIN:STANDARD
TZOFFSETFROM:-0700
TZOFFSETTO:-0800
TZNAME:PST
DTSTART:20241103T090000
END:STANDARD
END:VTIMEZONE
BEGIN:VEVENT
DTSTART;TZID=America/Los_Angeles:20231006T170000
DTEND;TZID=America/Los_Angeles:20231006T190000
DTSTAMP:20260424T053731
CREATED:20230921T180218Z
LAST-MODIFIED:20230921T182527Z
UID:7269-1696611600-1696618800@futuregenerationssd.com
SUMMARY:One-Year Anniversary Party
DESCRIPTION:Help us celebrate\nOne Year in Esco!\n			\n			\n				\n				\n				\n				\n			\n				\n				\n				\n				\n				\n				\n				\n				\n				\n				\n				\n			\n			\n				\n				\n				\n				\n				\n				\n				\n				\n				\n				\n					Countdown to the party of the year!\n					\n						 \n						Day(s) \n					\n						: \n					\n						 \n						Hour(s) \n					\n						: \n					\n						 \n						Minute(s) \n					\n						: \n					\n						 \n						Second(s) \n					\n				\n			\n				\n				\n				\n				\n				Save your spot!\n				RSVP Here!\n			\n			\n				\n				\n				\n				\n			\n				\n				\n				\n				\n				\n				\n				\n				\n				\n				\n				\n\n\nJoin us for an evening of family fun to celebrate ONE year in Escondido! You will get to hear from some leaders in the health freedom and birthing community\, and we’ll have some great food\, live music\, raffles\, and free giveaways! Friends and family welcome! \nDate: Friday\, October 6th\, 2023 \n\n\n\n\n\n\nTime: 5:00pm – 7:00pm \nLocation: Future Generations Clinic of Chiropractic \n324 S. Kalmia St.\, Escondido\, CA 92025
URL:https://futuregenerationssd.com/event/one-year-anniversary-party/
LOCATION:Future Generations Clinic of Chiropractic\, 324 South Kalmia Street\, Escondido\, CA\, 92025\, United States
END:VEVENT
END:VCALENDAR