BEGIN:VCALENDAR
VERSION:2.0
PRODID:-//Future Generations - ECPv6.15.20//NONSGML v1.0//EN
CALSCALE:GREGORIAN
METHOD:PUBLISH
X-WR-CALNAME:Future Generations
X-ORIGINAL-URL:https://futuregenerationssd.com
X-WR-CALDESC:Events for Future Generations
REFRESH-INTERVAL;VALUE=DURATION:PT1H
X-Robots-Tag:noindex
X-PUBLISHED-TTL:PT1H
BEGIN:VTIMEZONE
TZID:America/Los_Angeles
BEGIN:DAYLIGHT
TZOFFSETFROM:-0800
TZOFFSETTO:-0700
TZNAME:PDT
DTSTART:20220313T100000
END:DAYLIGHT
BEGIN:STANDARD
TZOFFSETFROM:-0700
TZOFFSETTO:-0800
TZNAME:PST
DTSTART:20221106T090000
END:STANDARD
BEGIN:DAYLIGHT
TZOFFSETFROM:-0800
TZOFFSETTO:-0700
TZNAME:PDT
DTSTART:20230312T100000
END:DAYLIGHT
BEGIN:STANDARD
TZOFFSETFROM:-0700
TZOFFSETTO:-0800
TZNAME:PST
DTSTART:20231105T090000
END:STANDARD
BEGIN:DAYLIGHT
TZOFFSETFROM:-0800
TZOFFSETTO:-0700
TZNAME:PDT
DTSTART:20240310T100000
END:DAYLIGHT
BEGIN:STANDARD
TZOFFSETFROM:-0700
TZOFFSETTO:-0800
TZNAME:PST
DTSTART:20241103T090000
END:STANDARD
END:VTIMEZONE
BEGIN:VEVENT
DTSTART;TZID=America/Los_Angeles:20230622T180000
DTEND;TZID=America/Los_Angeles:20230622T200000
DTSTAMP:20260422T083150
CREATED:20230606T181629Z
LAST-MODIFIED:20230710T222030Z
UID:6727-1687456800-1687464000@futuregenerationssd.com
SUMMARY:FG Gather & Connect: Birth Community
DESCRIPTION:Click Here to RSVP
URL:https://futuregenerationssd.com/event/birth-community/
LOCATION:Future Generations Center for Healthy Families\, 324 S. Kalmia Street\, Escondido\, CA\, 92025\, United States
END:VEVENT
END:VCALENDAR